BEGIN:VCALENDAR
VERSION:2.0
PRODID:-//Hundesportverein Crazy-Dogs Niederrhein - ECPv6.15.20//NONSGML v1.0//EN
CALSCALE:GREGORIAN
METHOD:PUBLISH
X-WR-CALNAME:Hundesportverein Crazy-Dogs Niederrhein
X-ORIGINAL-URL:https://www.hundesportverein-crazy-dogs.de
X-WR-CALDESC:Veranstaltungen für Hundesportverein Crazy-Dogs Niederrhein
REFRESH-INTERVAL;VALUE=DURATION:PT1H
X-Robots-Tag:noindex
X-PUBLISHED-TTL:PT1H
BEGIN:VTIMEZONE
TZID:Europe/Helsinki
BEGIN:DAYLIGHT
TZOFFSETFROM:+0200
TZOFFSETTO:+0300
TZNAME:EEST
DTSTART:20230326T010000
END:DAYLIGHT
BEGIN:STANDARD
TZOFFSETFROM:+0300
TZOFFSETTO:+0200
TZNAME:EET
DTSTART:20231029T010000
END:STANDARD
BEGIN:DAYLIGHT
TZOFFSETFROM:+0200
TZOFFSETTO:+0300
TZNAME:EEST
DTSTART:20240331T010000
END:DAYLIGHT
BEGIN:STANDARD
TZOFFSETFROM:+0300
TZOFFSETTO:+0200
TZNAME:EET
DTSTART:20241027T010000
END:STANDARD
BEGIN:DAYLIGHT
TZOFFSETFROM:+0200
TZOFFSETTO:+0300
TZNAME:EEST
DTSTART:20250330T010000
END:DAYLIGHT
BEGIN:STANDARD
TZOFFSETFROM:+0300
TZOFFSETTO:+0200
TZNAME:EET
DTSTART:20251026T010000
END:STANDARD
END:VTIMEZONE
BEGIN:VEVENT
DTSTART;VALUE=DATE:20240428
DTEND;VALUE=DATE:20240429
DTSTAMP:20260423T195802
CREATED:20231231T135438Z
LAST-MODIFIED:20240111T183926Z
UID:4004-1714262400-1714348799@www.hundesportverein-crazy-dogs.de
SUMMARY:Frühjahrsprüfung Begleithunde/Obedience 2024
DESCRIPTION:Die Prüfung findet als BH-Prüfung mit Obedience statt. BH-Startern räumen wir bis Meldeschluss Vorrang vor den Obedience-Startern ein. Nach aktuellem Stand\, wird es vermutlich darauf hinauslaufen\, dass lediglich die Obedience-Klasse Beginner und 1 geführt werden können. Meldungen bitte per E-Mail auf DVG-Meldeformular an info@hundesportverein-crazy-dogs.de
URL:https://www.hundesportverein-crazy-dogs.de/event/fruehjahrspruefung-2024/
CATEGORIES:Prüfung/Turnier
ATTACH;FMTTYPE=image/jpeg:https://www.hundesportverein-crazy-dogs.de/wp-content/uploads/2023/05/BH-Karin-002-scaled.jpg
END:VEVENT
END:VCALENDAR